BEGIN:VCALENDAR
VERSION:2.0
PRODID:-//https://testphilippe.ab-sites.fr///NONSGML kigkonsult.se iCalcreator 2.10.15//
METHOD:PUBLISH
BEGIN:VEVENT
UID:20260423T115738CEST-3287VtwPi2@https://testphilippe.ab-sites.fr/
DTSTAMP:20260423T095738Z
DESCRIPTION: https://testphilippe.ab-sites.fr/component/rseventspro/eveneme
 nt/404-repetition-generale?Itemid=101
DTSTART:20260619T120000Z
DTEND:20260619T150000Z
LOCATION:Maison de Quartier Le FLORIDA (1 Boulevard Auguste Comte\, 13010\,
  10e Arrondissement\, Marseille\, Bouches-du-Rhône\, Provence-Alpes-Côte d
 'Azur)
SUMMARY:Répétition Générale
URL:https://testphilippe.ab-sites.fr/component/rseventspro/evenement/404-re
 petition-generale?Itemid=101
END:VEVENT
END:VCALENDAR
