BEGIN:VCALENDAR
VERSION:2.0
PRODID:-//https://testphilippe.ab-sites.fr///NONSGML kigkonsult.se iCalcreator 2.10.15//
METHOD:PUBLISH
BEGIN:VEVENT
UID:20260419T140231CEST-5085frFu9a@https://testphilippe.ab-sites.fr/
DTSTAMP:20260419T120231Z
DESCRIPTION: https://testphilippe.ab-sites.fr/component/rseventspro/eveneme
 nt/368-rencontre-avec-frederic-mistral?Itemid=101
DTSTART:20260120T130000Z
DTEND:20260120T153000Z
LOCATION:Espace Séniors Le Florian (197 Boulevard de Pont-de-Vivaux\, 13010
 \, MARSEILLE)
SUMMARY:Rencontre avec Frédéric Mistral
URL:https://testphilippe.ab-sites.fr/component/rseventspro/evenement/368-re
 ncontre-avec-frederic-mistral?Itemid=101
END:VEVENT
END:VCALENDAR
