BEGIN:VCALENDAR
VERSION:2.0
PRODID:-//https://testphilippe.ab-sites.fr///NONSGML kigkonsult.se iCalcreator 2.10.15//
METHOD:PUBLISH
BEGIN:VEVENT
UID:20260423T121248CEST-2515zZ1AJU@https://testphilippe.ab-sites.fr/
DTSTAMP:20260423T101248Z
DESCRIPTION: https://testphilippe.ab-sites.fr/component/rseventspro/eveneme
 nt/356-atelier-theatre?Itemid=101
DTSTART:20251121T130000Z
DTEND:20251121T160000Z
LOCATION:Maison de Quartier Le FLORIDA (1 Boulevard Auguste Comte\, 13010\,
  10e Arrondissement\, Marseille\, Bouches-du-Rhône\, Provence-Alpes-Côte d
 'Azur)
SUMMARY:Atelier théâtre
URL:https://testphilippe.ab-sites.fr/component/rseventspro/evenement/356-at
 elier-theatre?Itemid=101
END:VEVENT
END:VCALENDAR
