BEGIN:VCALENDAR
VERSION:2.0
PRODID:-//https://testphilippe.ab-sites.fr///NONSGML kigkonsult.se iCalcreator 2.10.15//
METHOD:PUBLISH
BEGIN:VEVENT
UID:20260421T053035CEST-8163Kt2r4L@https://testphilippe.ab-sites.fr/
DTSTAMP:20260421T033035Z
DESCRIPTION: https://testphilippe.ab-sites.fr/component/rseventspro/eveneme
 nt/320-sortie-au-restaurant-les-beaux-mets-avec-d-calisti?Itemid=101
DTSTART:20250403T093000Z
DTEND:20250403T133000Z
LOCATION:Restaurant ' Les beaux mets ' (Traverse de Rabat\, à 100m du crois
 ement Trav. de Rabat / Chemin de Morgiou\, 13009 Marseille Attention :)
SUMMARY:Sortie au restaurant ' Les beaux mets ' avec D. Calisti
URL:https://testphilippe.ab-sites.fr/component/rseventspro/evenement/320-so
 rtie-au-restaurant-les-beaux-mets-avec-d-calisti?Itemid=101
END:VEVENT
END:VCALENDAR
