BEGIN:VCALENDAR
VERSION:2.0
PRODID:-//https://testphilippe.ab-sites.fr///NONSGML kigkonsult.se iCalcreator 2.10.15//
METHOD:PUBLISH
BEGIN:VEVENT
UID:20260421T053425CEST-9034470RPA@https://testphilippe.ab-sites.fr/
DTSTAMP:20260421T033425Z
DESCRIPTION:Sortie organisée par D. Calisti\n  https://testphilippe.ab-site
 s.fr/component/rseventspro/evenement/242-sortie-au-restaurant-gastronomiqu
 e-d-calisti?Itemid=101
DTSTART:20240321T110000Z
DTEND:20240321T143000Z
LOCATION:Restaurant  'Le République' (1 Place Sadi Carnot\, 13002\, 2e Arro
 ndissement\, Marseille\, Bouches-du-Rhône\, Provence-Alpes-Côte d'Azur)
SUMMARY:Sortie au restaurant gastronomique (D. Calisti)
URL:https://testphilippe.ab-sites.fr/component/rseventspro/evenement/242-so
 rtie-au-restaurant-gastronomique-d-calisti?Itemid=101
END:VEVENT
END:VCALENDAR
